BEGIN:VCALENDAR
VERSION:2.0
PRODID:-//Stanton St John Parish Council//Meeting Calendar//EN
CALSCALE:GREGORIAN
METHOD:PUBLISH
BEGIN:VEVENT
UID:71461-20261214@stantonstjohnparishcouncil.gov.uk
DTSTAMP:20260422T102701Z
DTSTART;VALUE=DATE:20261214
DTEND;VALUE=DATE:20261215
SUMMARY:Parish Council Meeting 14 December 2026
DESCRIPTION:Full Council Meeting\nView details: https://stantonstjohnparishcouncil.gov.uk/meetings/parish-council-meeting-14-december-2026/
URL:https://stantonstjohnparishcouncil.gov.uk/meetings/parish-council-meeting-14-december-2026/
END:VEVENT
END:VCALENDAR
