BEGIN:VCALENDAR
VERSION:2.0
PRODID:-//Stanton St John Parish Council//Meeting Calendar//EN
CALSCALE:GREGORIAN
METHOD:PUBLISH
BEGIN:VEVENT
UID:71445-20250216@stantonstjohnparishcouncil.gov.uk
DTSTAMP:20260422T104129Z
DTSTART;VALUE=DATE:20250216
DTEND;VALUE=DATE:20250217
SUMMARY:Parish Council Meeting 16 February 2026
DESCRIPTION:Full Council Meeting\nView details: https://stantonstjohnparishcouncil.gov.uk/meetings/parish-council-meeting-16-february-2026/
URL:https://stantonstjohnparishcouncil.gov.uk/meetings/parish-council-meeting-16-february-2026/
END:VEVENT
END:VCALENDAR
