BEGIN:VCALENDAR
VERSION:2.0
PRODID:-//Stanton St John Parish Council//Meeting Calendar//EN
CALSCALE:GREGORIAN
METHOD:PUBLISH
BEGIN:VEVENT
UID:70802-20240422@stantonstjohnparishcouncil.gov.uk
DTSTAMP:20260422T133826Z
DTSTART;VALUE=DATE:20240422
DTEND;VALUE=DATE:20240423
SUMMARY:Parish Council Meeting 22 April 2024
DESCRIPTION:Full Council Meeting\nView details: https://stantonstjohnparishcouncil.gov.uk/meetings/parish-council-meeting/
URL:https://stantonstjohnparishcouncil.gov.uk/meetings/parish-council-meeting/
END:VEVENT
END:VCALENDAR
