BEGIN:VCALENDAR
VERSION:2.0
PRODID:-//Stanton St John Parish Council//Meeting Calendar//EN
CALSCALE:GREGORIAN
METHOD:PUBLISH
BEGIN:VEVENT
UID:70757-20241216@stantonstjohnparishcouncil.gov.uk
DTSTAMP:20260422T134908Z
DTSTART;VALUE=DATE:20241216
DTEND;VALUE=DATE:20241217
SUMMARY:Council Meeting 16 December 2024
DESCRIPTION:Full Council Meeting\nView details: https://stantonstjohnparishcouncil.gov.uk/meetings/council-meeting-16-december-2024/
URL:https://stantonstjohnparishcouncil.gov.uk/meetings/council-meeting-16-december-2024/
END:VEVENT
END:VCALENDAR
