BEGIN:VCALENDAR
VERSION:2.0
PRODID:-//Stanton St John Parish Council//Meeting Calendar//EN
CALSCALE:GREGORIAN
METHOD:PUBLISH
BEGIN:VEVENT
UID:70550-20230522@stantonstjohnparishcouncil.gov.uk
DTSTAMP:20260422T134115Z
DTSTART;VALUE=DATE:20230522
DTEND;VALUE=DATE:20230523
SUMMARY:Council Meeting- 22 May 2023
DESCRIPTION:Full Council Meeting\nView details: https://stantonstjohnparishcouncil.gov.uk/meetings/council-meeting-22-may-2023/
URL:https://stantonstjohnparishcouncil.gov.uk/meetings/council-meeting-22-may-2023/
END:VEVENT
END:VCALENDAR
