BEGIN:VCALENDAR
VERSION:2.0
PRODID:-//Stanton St John Parish Council//Meeting Calendar//EN
CALSCALE:GREGORIAN
METHOD:PUBLISH
BEGIN:VEVENT
UID:70411-20230123@stantonstjohnparishcouncil.gov.uk
DTSTAMP:20260419T211449Z
DTSTART;VALUE=DATE:20230123
DTEND;VALUE=DATE:20230124
SUMMARY:Full Council Meeting &#8211\\; 23rd January 2023
DESCRIPTION:Full Council Meeting\nView details: https://stantonstjohnparishcouncil.gov.uk/meetings/full-council-meeting-23rd-january-2023/
URL:https://stantonstjohnparishcouncil.gov.uk/meetings/full-council-meeting-23rd-january-2023/
END:VEVENT
END:VCALENDAR
