BEGIN:VCALENDAR
VERSION:2.0
PRODID:-//Stanton St John Parish Council//Meeting Calendar//EN
CALSCALE:GREGORIAN
METHOD:PUBLISH
BEGIN:VEVENT
UID:70409-20221219@stantonstjohnparishcouncil.gov.uk
DTSTAMP:20260420T014456Z
DTSTART;VALUE=DATE:20221219
DTEND;VALUE=DATE:20221220
SUMMARY:Full Council Meeting &#8211\\; 19th December 2022
DESCRIPTION:Full Council Meeting\nView details: https://stantonstjohnparishcouncil.gov.uk/meetings/full-council-meeting-19th-december-2022/
URL:https://stantonstjohnparishcouncil.gov.uk/meetings/full-council-meeting-19th-december-2022/
END:VEVENT
END:VCALENDAR
