BEGIN:VCALENDAR
VERSION:2.0
PRODID:-//Stanton St John Parish Council//Meeting Calendar//EN
CALSCALE:GREGORIAN
METHOD:PUBLISH
BEGIN:VEVENT
UID:70407-20221121@stantonstjohnparishcouncil.gov.uk
DTSTAMP:20260420T060257Z
DTSTART;VALUE=DATE:20221121
DTEND;VALUE=DATE:20221122
SUMMARY:Full Council Meeting &#8211\\; 21st November 2022
DESCRIPTION:Full Council Meeting\nView details: https://stantonstjohnparishcouncil.gov.uk/meetings/full-council-meeting-21st-november-2022/
URL:https://stantonstjohnparishcouncil.gov.uk/meetings/full-council-meeting-21st-november-2022/
END:VEVENT
END:VCALENDAR
