BEGIN:VCALENDAR
VERSION:2.0
PRODID:-//Stanton St John Parish Council//Meeting Calendar//EN
CALSCALE:GREGORIAN
METHOD:PUBLISH
BEGIN:VEVENT
UID:70405-20221024@stantonstjohnparishcouncil.gov.uk
DTSTAMP:20260420T083925Z
DTSTART;VALUE=DATE:20221024
DTEND;VALUE=DATE:20221025
SUMMARY:Full Council Meeting &#8211\\; 24th October 2022
DESCRIPTION:Full Council Meeting\nView details: https://stantonstjohnparishcouncil.gov.uk/meetings/full-council-meeting-24th-october-2022/
URL:https://stantonstjohnparishcouncil.gov.uk/meetings/full-council-meeting-24th-october-2022/
END:VEVENT
END:VCALENDAR
