BEGIN:VCALENDAR
VERSION:2.0
PRODID:-//Stanton St John Parish Council//Meeting Calendar//EN
CALSCALE:GREGORIAN
METHOD:PUBLISH
BEGIN:VEVENT
UID:70401-20220622@stantonstjohnparishcouncil.gov.uk
DTSTAMP:20260420T002238Z
DTSTART;VALUE=DATE:20220622
DTEND;VALUE=DATE:20220623
SUMMARY:Full Council Meeting &#8211\\; 22nd June 2022
DESCRIPTION:Full Council Meeting\nView details: https://stantonstjohnparishcouncil.gov.uk/meetings/full-council-meeting-22nd-june-2022/
URL:https://stantonstjohnparishcouncil.gov.uk/meetings/full-council-meeting-22nd-june-2022/
END:VEVENT
END:VCALENDAR
