BEGIN:VCALENDAR
VERSION:2.0
PRODID:-//Stanton St John Parish Council//Meeting Calendar//EN
CALSCALE:GREGORIAN
METHOD:PUBLISH
BEGIN:VEVENT
UID:70399-20220620@stantonstjohnparishcouncil.gov.uk
DTSTAMP:20260419T202349Z
DTSTART;VALUE=DATE:20220620
DTEND;VALUE=DATE:20220621
SUMMARY:Full Council Meeting &#8211\\; 20th June 2022
DESCRIPTION:Full Council Meeting\nView details: https://stantonstjohnparishcouncil.gov.uk/meetings/full-council-meeting-20th-june-2022/
URL:https://stantonstjohnparishcouncil.gov.uk/meetings/full-council-meeting-20th-june-2022/
END:VEVENT
END:VCALENDAR
