BEGIN:VCALENDAR
VERSION:2.0
PRODID:-//Stanton St John Parish Council//Meeting Calendar//EN
CALSCALE:GREGORIAN
METHOD:PUBLISH
BEGIN:VEVENT
UID:70377-20210629@stantonstjohnparishcouncil.gov.uk
DTSTAMP:20260422T111430Z
DTSTART;VALUE=DATE:20210629
DTEND;VALUE=DATE:20210630
SUMMARY:Full Council Meeting &#8211\\; 29th June 2021
DESCRIPTION:Full Council Meeting\nView details: https://stantonstjohnparishcouncil.gov.uk/meetings/full-council-meeting-29th-june-2021/
URL:https://stantonstjohnparishcouncil.gov.uk/meetings/full-council-meeting-29th-june-2021/
END:VEVENT
END:VCALENDAR
