BEGIN:VCALENDAR
VERSION:2.0
PRODID:-//Stanton St John Parish Council//Meeting Calendar//EN
CALSCALE:GREGORIAN
METHOD:PUBLISH
BEGIN:VEVENT
UID:70371-20210408@stantonstjohnparishcouncil.gov.uk
DTSTAMP:20260419T164513Z
DTSTART;VALUE=DATE:20210408
DTEND;VALUE=DATE:20210409
SUMMARY:Full Council Meeting &#8211\\; 8th April 2021
DESCRIPTION:Full Council Meeting\nView details: https://stantonstjohnparishcouncil.gov.uk/meetings/full-council-meeting-8th-april-2021/
URL:https://stantonstjohnparishcouncil.gov.uk/meetings/full-council-meeting-8th-april-2021/
END:VEVENT
END:VCALENDAR
