BEGIN:VCALENDAR
VERSION:2.0
PRODID:-//Stanton St John Parish Council//Meeting Calendar//EN
CALSCALE:GREGORIAN
METHOD:PUBLISH
BEGIN:VEVENT
UID:70347-20200323@stantonstjohnparishcouncil.gov.uk
DTSTAMP:20260419T164639Z
DTSTART;VALUE=DATE:20200323
DTEND;VALUE=DATE:20200324
SUMMARY:Full Council Meeting &#8211\\; 23rd March 2020
DESCRIPTION:Full Council Meeting\nView details: https://stantonstjohnparishcouncil.gov.uk/meetings/full-council-meeting-23rd-march-2020/
URL:https://stantonstjohnparishcouncil.gov.uk/meetings/full-council-meeting-23rd-march-2020/
END:VEVENT
END:VCALENDAR
