BEGIN:VCALENDAR
VERSION:2.0
PRODID:-//Stanton St John Parish Council//Meeting Calendar//EN
CALSCALE:GREGORIAN
METHOD:PUBLISH
BEGIN:VEVENT
UID:70345-20200217@stantonstjohnparishcouncil.gov.uk
DTSTAMP:20260419T203708Z
DTSTART;VALUE=DATE:20200217
DTEND;VALUE=DATE:20200218
SUMMARY:Full Council Meeting &#8211\\; 17th February 2020
DESCRIPTION:Full Council Meeting\nView details: https://stantonstjohnparishcouncil.gov.uk/meetings/full-council-meeting-17th-february-2020/
URL:https://stantonstjohnparishcouncil.gov.uk/meetings/full-council-meeting-17th-february-2020/
END:VEVENT
END:VCALENDAR
