BEGIN:VCALENDAR
VERSION:2.0
PRODID:-//Stanton St John Parish Council//Meeting Calendar//EN
CALSCALE:GREGORIAN
METHOD:PUBLISH
BEGIN:VEVENT
UID:70341-20191216@stantonstjohnparishcouncil.gov.uk
DTSTAMP:20260420T050704Z
DTSTART;VALUE=DATE:20191216
DTEND;VALUE=DATE:20191217
SUMMARY:Full Council Meeting &#8211\\; 16th December 2019
DESCRIPTION:Full Council Meeting\nView details: https://stantonstjohnparishcouncil.gov.uk/meetings/full-council-meeting-16th-december-2019/
URL:https://stantonstjohnparishcouncil.gov.uk/meetings/full-council-meeting-16th-december-2019/
END:VEVENT
END:VCALENDAR
