BEGIN:VCALENDAR
VERSION:2.0
PRODID:-//Stanton St John Parish Council//Meeting Calendar//EN
CALSCALE:GREGORIAN
METHOD:PUBLISH
BEGIN:VEVENT
UID:70339-20191118@stantonstjohnparishcouncil.gov.uk
DTSTAMP:20260422T135427Z
DTSTART;VALUE=DATE:20191118
DTEND;VALUE=DATE:20191119
SUMMARY:Full Council Meeting &#8211\\; 18th November 2019
DESCRIPTION:Full Council Meeting\nView details: https://stantonstjohnparishcouncil.gov.uk/meetings/full-council-meeting-18th-november-2019/
URL:https://stantonstjohnparishcouncil.gov.uk/meetings/full-council-meeting-18th-november-2019/
END:VEVENT
END:VCALENDAR
