BEGIN:VCALENDAR
VERSION:2.0
PRODID:-//Stanton St John Parish Council//Meeting Calendar//EN
CALSCALE:GREGORIAN
METHOD:PUBLISH
BEGIN:VEVENT
UID:70337-20191021@stantonstjohnparishcouncil.gov.uk
DTSTAMP:20260422T103830Z
DTSTART;VALUE=DATE:20191021
DTEND;VALUE=DATE:20191022
SUMMARY:Full Council Meeting &#8211\\; 21st October 2019
DESCRIPTION:Full Council Meeting\nView details: https://stantonstjohnparishcouncil.gov.uk/meetings/full-council-meeting-21st-october-2019/
URL:https://stantonstjohnparishcouncil.gov.uk/meetings/full-council-meeting-21st-october-2019/
END:VEVENT
END:VCALENDAR
