BEGIN:VCALENDAR
VERSION:2.0
PRODID:-//Stanton St John Parish Council//Meeting Calendar//EN
CALSCALE:GREGORIAN
METHOD:PUBLISH
BEGIN:VEVENT
UID:70325-20190318@stantonstjohnparishcouncil.gov.uk
DTSTAMP:20260420T100824Z
DTSTART;VALUE=DATE:20190318
DTEND;VALUE=DATE:20190319
SUMMARY:Full Council Meeting &#8211\\; 18th March 2019
DESCRIPTION:Full Council Meeting\nView details: https://stantonstjohnparishcouncil.gov.uk/meetings/full-council-meeting-18th-march-2019/
URL:https://stantonstjohnparishcouncil.gov.uk/meetings/full-council-meeting-18th-march-2019/
END:VEVENT
END:VCALENDAR
